BEGIN:VCALENDAR
VERSION:2.0
PRODID:-//Southern California Children&#039;s Museum - ECPv6.15.20//NONSGML v1.0//EN
CALSCALE:GREGORIAN
METHOD:PUBLISH
X-WR-CALNAME:Southern California Children&#039;s Museum
X-ORIGINAL-URL:https://socalkids.org
X-WR-CALDESC:Events for Southern California Children&#039;s Museum
REFRESH-INTERVAL;VALUE=DURATION:PT1H
X-Robots-Tag:noindex
X-PUBLISHED-TTL:PT1H
BEGIN:VTIMEZONE
TZID:America/Los_Angeles
BEGIN:DAYLIGHT
TZOFFSETFROM:-0800
TZOFFSETTO:-0700
TZNAME:PDT
DTSTART:20240310T100000
END:DAYLIGHT
BEGIN:STANDARD
TZOFFSETFROM:-0700
TZOFFSETTO:-0800
TZNAME:PST
DTSTART:20241103T090000
END:STANDARD
BEGIN:DAYLIGHT
TZOFFSETFROM:-0800
TZOFFSETTO:-0700
TZNAME:PDT
DTSTART:20250309T100000
END:DAYLIGHT
BEGIN:STANDARD
TZOFFSETFROM:-0700
TZOFFSETTO:-0800
TZNAME:PST
DTSTART:20251102T090000
END:STANDARD
BEGIN:DAYLIGHT
TZOFFSETFROM:-0800
TZOFFSETTO:-0700
TZNAME:PDT
DTSTART:20260308T100000
END:DAYLIGHT
BEGIN:STANDARD
TZOFFSETFROM:-0700
TZOFFSETTO:-0800
TZNAME:PST
DTSTART:20261101T090000
END:STANDARD
END:VTIMEZONE
BEGIN:VEVENT
DTSTART;TZID=America/Los_Angeles:20251203T133000
DTEND;TZID=America/Los_Angeles:20251203T143000
DTSTAMP:20260422T092553
CREATED:20251203T232334Z
LAST-MODIFIED:20251203T233339Z
UID:10013237-1764768600-1764772200@socalkids.org
SUMMARY:Winter Window Art
DESCRIPTION:Help brighten our space (and yours!) with magical Winter Window Art! Young artists will layer colors\, shapes\, and textures to create wintery window designs inspired by snowy days\, frosty patterns\, and their cozy winter imagination. Join us for an afternoon of color\, creativity\, and winter magic. \nDaily from 1:30-2:30pm; Saturdays 11:30am
URL:https://socalkids.org/event/winter-window-art/2025-12-03/
LOCATION:Southern California Children’s Museum\, 459 E. Colorado Blvd.\, Pasadena\, CA\, 91101\, United States
CATEGORIES:Daily Art Program
ATTACH;FMTTYPE=image/jpeg:https://socalkids.org/media/2-2.jpg
END:VEVENT
BEGIN:VEVENT
DTSTART;TZID=America/Los_Angeles:20251204T133000
DTEND;TZID=America/Los_Angeles:20251204T143000
DTSTAMP:20260422T092554
CREATED:20251203T232334Z
LAST-MODIFIED:20251203T233339Z
UID:10013238-1764855000-1764858600@socalkids.org
SUMMARY:Winter Window Art
DESCRIPTION:Help brighten our space (and yours!) with magical Winter Window Art! Young artists will layer colors\, shapes\, and textures to create wintery window designs inspired by snowy days\, frosty patterns\, and their cozy winter imagination. Join us for an afternoon of color\, creativity\, and winter magic. \nDaily from 1:30-2:30pm; Saturdays 11:30am
URL:https://socalkids.org/event/winter-window-art/2025-12-04/
LOCATION:Southern California Children’s Museum\, 459 E. Colorado Blvd.\, Pasadena\, CA\, 91101\, United States
CATEGORIES:Daily Art Program
ATTACH;FMTTYPE=image/jpeg:https://socalkids.org/media/2-2.jpg
END:VEVENT
BEGIN:VEVENT
DTSTART;TZID=America/Los_Angeles:20251205T133000
DTEND;TZID=America/Los_Angeles:20251205T143000
DTSTAMP:20260422T092554
CREATED:20251203T232334Z
LAST-MODIFIED:20251203T233339Z
UID:10013239-1764941400-1764945000@socalkids.org
SUMMARY:Winter Window Art
DESCRIPTION:Help brighten our space (and yours!) with magical Winter Window Art! Young artists will layer colors\, shapes\, and textures to create wintery window designs inspired by snowy days\, frosty patterns\, and their cozy winter imagination. Join us for an afternoon of color\, creativity\, and winter magic. \nDaily from 1:30-2:30pm; Saturdays 11:30am
URL:https://socalkids.org/event/winter-window-art/2025-12-05/
LOCATION:Southern California Children’s Museum\, 459 E. Colorado Blvd.\, Pasadena\, CA\, 91101\, United States
CATEGORIES:Daily Art Program
ATTACH;FMTTYPE=image/jpeg:https://socalkids.org/media/2-2.jpg
END:VEVENT
BEGIN:VEVENT
DTSTART;TZID=America/Los_Angeles:20251207T133000
DTEND;TZID=America/Los_Angeles:20251207T143000
DTSTAMP:20260422T092554
CREATED:20251203T232334Z
LAST-MODIFIED:20251203T233339Z
UID:10013241-1765114200-1765117800@socalkids.org
SUMMARY:Winter Window Art
DESCRIPTION:Help brighten our space (and yours!) with magical Winter Window Art! Young artists will layer colors\, shapes\, and textures to create wintery window designs inspired by snowy days\, frosty patterns\, and their cozy winter imagination. Join us for an afternoon of color\, creativity\, and winter magic. \nDaily from 1:30-2:30pm; Saturdays 11:30am
URL:https://socalkids.org/event/winter-window-art/2025-12-07/
LOCATION:Southern California Children’s Museum\, 459 E. Colorado Blvd.\, Pasadena\, CA\, 91101\, United States
CATEGORIES:Daily Art Program
ATTACH;FMTTYPE=image/jpeg:https://socalkids.org/media/2-2.jpg
END:VEVENT
BEGIN:VEVENT
DTSTART;TZID=America/Los_Angeles:20251208T133000
DTEND;TZID=America/Los_Angeles:20251208T143000
DTSTAMP:20260422T092554
CREATED:20251203T232334Z
LAST-MODIFIED:20251203T233339Z
UID:10013242-1765200600-1765204200@socalkids.org
SUMMARY:Winter Window Art
DESCRIPTION:Help brighten our space (and yours!) with magical Winter Window Art! Young artists will layer colors\, shapes\, and textures to create wintery window designs inspired by snowy days\, frosty patterns\, and their cozy winter imagination. Join us for an afternoon of color\, creativity\, and winter magic. \nDaily from 1:30-2:30pm; Saturdays 11:30am
URL:https://socalkids.org/event/winter-window-art/2025-12-08/
LOCATION:Southern California Children’s Museum\, 459 E. Colorado Blvd.\, Pasadena\, CA\, 91101\, United States
CATEGORIES:Daily Art Program
ATTACH;FMTTYPE=image/jpeg:https://socalkids.org/media/2-2.jpg
END:VEVENT
BEGIN:VEVENT
DTSTART;TZID=America/Los_Angeles:20251209T133000
DTEND;TZID=America/Los_Angeles:20251209T143000
DTSTAMP:20260422T092554
CREATED:20251203T232334Z
LAST-MODIFIED:20251203T233339Z
UID:10013243-1765287000-1765290600@socalkids.org
SUMMARY:Winter Window Art
DESCRIPTION:Help brighten our space (and yours!) with magical Winter Window Art! Young artists will layer colors\, shapes\, and textures to create wintery window designs inspired by snowy days\, frosty patterns\, and their cozy winter imagination. Join us for an afternoon of color\, creativity\, and winter magic. \nDaily from 1:30-2:30pm; Saturdays 11:30am
URL:https://socalkids.org/event/winter-window-art/2025-12-09/
LOCATION:Southern California Children’s Museum\, 459 E. Colorado Blvd.\, Pasadena\, CA\, 91101\, United States
CATEGORIES:Daily Art Program
ATTACH;FMTTYPE=image/jpeg:https://socalkids.org/media/2-2.jpg
END:VEVENT
BEGIN:VEVENT
DTSTART;TZID=America/Los_Angeles:20251210T133000
DTEND;TZID=America/Los_Angeles:20251210T143000
DTSTAMP:20260422T092554
CREATED:20251203T232334Z
LAST-MODIFIED:20251203T233339Z
UID:10013244-1765373400-1765377000@socalkids.org
SUMMARY:Winter Window Art
DESCRIPTION:Help brighten our space (and yours!) with magical Winter Window Art! Young artists will layer colors\, shapes\, and textures to create wintery window designs inspired by snowy days\, frosty patterns\, and their cozy winter imagination. Join us for an afternoon of color\, creativity\, and winter magic. \nDaily from 1:30-2:30pm; Saturdays 11:30am
URL:https://socalkids.org/event/winter-window-art/2025-12-10/
LOCATION:Southern California Children’s Museum\, 459 E. Colorado Blvd.\, Pasadena\, CA\, 91101\, United States
CATEGORIES:Daily Art Program
ATTACH;FMTTYPE=image/jpeg:https://socalkids.org/media/2-2.jpg
END:VEVENT
BEGIN:VEVENT
DTSTART;TZID=America/Los_Angeles:20251211T133000
DTEND;TZID=America/Los_Angeles:20251211T143000
DTSTAMP:20260422T092554
CREATED:20251203T232334Z
LAST-MODIFIED:20251203T233339Z
UID:10013245-1765459800-1765463400@socalkids.org
SUMMARY:Winter Window Art
DESCRIPTION:Help brighten our space (and yours!) with magical Winter Window Art! Young artists will layer colors\, shapes\, and textures to create wintery window designs inspired by snowy days\, frosty patterns\, and their cozy winter imagination. Join us for an afternoon of color\, creativity\, and winter magic. \nDaily from 1:30-2:30pm; Saturdays 11:30am
URL:https://socalkids.org/event/winter-window-art/2025-12-11/
LOCATION:Southern California Children’s Museum\, 459 E. Colorado Blvd.\, Pasadena\, CA\, 91101\, United States
CATEGORIES:Daily Art Program
ATTACH;FMTTYPE=image/jpeg:https://socalkids.org/media/2-2.jpg
END:VEVENT
BEGIN:VEVENT
DTSTART;TZID=America/Los_Angeles:20251212T133000
DTEND;TZID=America/Los_Angeles:20251212T143000
DTSTAMP:20260422T092554
CREATED:20251203T232334Z
LAST-MODIFIED:20251203T233339Z
UID:10013246-1765546200-1765549800@socalkids.org
SUMMARY:Winter Window Art
DESCRIPTION:Help brighten our space (and yours!) with magical Winter Window Art! Young artists will layer colors\, shapes\, and textures to create wintery window designs inspired by snowy days\, frosty patterns\, and their cozy winter imagination. Join us for an afternoon of color\, creativity\, and winter magic. \nDaily from 1:30-2:30pm; Saturdays 11:30am
URL:https://socalkids.org/event/winter-window-art/2025-12-12/
LOCATION:Southern California Children’s Museum\, 459 E. Colorado Blvd.\, Pasadena\, CA\, 91101\, United States
CATEGORIES:Daily Art Program
ATTACH;FMTTYPE=image/jpeg:https://socalkids.org/media/2-2.jpg
END:VEVENT
BEGIN:VEVENT
DTSTART;TZID=America/Los_Angeles:20251213T103000
DTEND;TZID=America/Los_Angeles:20251213T113000
DTSTAMP:20260422T092554
CREATED:20251203T233048Z
LAST-MODIFIED:20251203T233048Z
UID:10013669-1765621800-1765625400@socalkids.org
SUMMARY:Winter Window Art
DESCRIPTION:Help brighten our space (and yours!) with magical Winter Window Art! Young artists will layer colors\, shapes\, and textures to create wintery window designs inspired by snowy days\, frosty patterns\, and their cozy winter imagination. Join us for an afternoon of color\, creativity\, and winter magic. \nDaily from 1:30-2:30pm; Saturdays 11:30am
URL:https://socalkids.org/event/winter-window-art-2/2025-12-13/
LOCATION:Southern California Children’s Museum\, 459 E. Colorado Blvd.\, Pasadena\, CA\, 91101\, United States
CATEGORIES:Daily Art Program
ATTACH;FMTTYPE=image/jpeg:https://socalkids.org/media/2-2.jpg
END:VEVENT
BEGIN:VEVENT
DTSTART;TZID=America/Los_Angeles:20251213T133000
DTEND;TZID=America/Los_Angeles:20251213T143000
DTSTAMP:20260422T092554
CREATED:20251203T232334Z
LAST-MODIFIED:20251203T233339Z
UID:10013247-1765632600-1765636200@socalkids.org
SUMMARY:Winter Window Art
DESCRIPTION:Help brighten our space (and yours!) with magical Winter Window Art! Young artists will layer colors\, shapes\, and textures to create wintery window designs inspired by snowy days\, frosty patterns\, and their cozy winter imagination. Join us for an afternoon of color\, creativity\, and winter magic. \nDaily from 1:30-2:30pm; Saturdays 11:30am
URL:https://socalkids.org/event/winter-window-art/2025-12-13/
LOCATION:Southern California Children’s Museum\, 459 E. Colorado Blvd.\, Pasadena\, CA\, 91101\, United States
CATEGORIES:Daily Art Program
ATTACH;FMTTYPE=image/jpeg:https://socalkids.org/media/2-2.jpg
END:VEVENT
BEGIN:VEVENT
DTSTART;TZID=America/Los_Angeles:20251214T133000
DTEND;TZID=America/Los_Angeles:20251214T143000
DTSTAMP:20260422T092554
CREATED:20251203T232334Z
LAST-MODIFIED:20251203T233339Z
UID:10013248-1765719000-1765722600@socalkids.org
SUMMARY:Winter Window Art
DESCRIPTION:Help brighten our space (and yours!) with magical Winter Window Art! Young artists will layer colors\, shapes\, and textures to create wintery window designs inspired by snowy days\, frosty patterns\, and their cozy winter imagination. Join us for an afternoon of color\, creativity\, and winter magic. \nDaily from 1:30-2:30pm; Saturdays 11:30am
URL:https://socalkids.org/event/winter-window-art/2025-12-14/
LOCATION:Southern California Children’s Museum\, 459 E. Colorado Blvd.\, Pasadena\, CA\, 91101\, United States
CATEGORIES:Daily Art Program
ATTACH;FMTTYPE=image/jpeg:https://socalkids.org/media/2-2.jpg
END:VEVENT
BEGIN:VEVENT
DTSTART;TZID=America/Los_Angeles:20251215T133000
DTEND;TZID=America/Los_Angeles:20251215T143000
DTSTAMP:20260422T092554
CREATED:20251203T232334Z
LAST-MODIFIED:20251203T233339Z
UID:10013249-1765805400-1765809000@socalkids.org
SUMMARY:Winter Window Art
DESCRIPTION:Help brighten our space (and yours!) with magical Winter Window Art! Young artists will layer colors\, shapes\, and textures to create wintery window designs inspired by snowy days\, frosty patterns\, and their cozy winter imagination. Join us for an afternoon of color\, creativity\, and winter magic. \nDaily from 1:30-2:30pm; Saturdays 11:30am
URL:https://socalkids.org/event/winter-window-art/2025-12-15/
LOCATION:Southern California Children’s Museum\, 459 E. Colorado Blvd.\, Pasadena\, CA\, 91101\, United States
CATEGORIES:Daily Art Program
ATTACH;FMTTYPE=image/jpeg:https://socalkids.org/media/2-2.jpg
END:VEVENT
BEGIN:VEVENT
DTSTART;TZID=America/Los_Angeles:20251216T133000
DTEND;TZID=America/Los_Angeles:20251216T143000
DTSTAMP:20260422T092554
CREATED:20251203T232334Z
LAST-MODIFIED:20251203T233339Z
UID:10013250-1765891800-1765895400@socalkids.org
SUMMARY:Winter Window Art
DESCRIPTION:Help brighten our space (and yours!) with magical Winter Window Art! Young artists will layer colors\, shapes\, and textures to create wintery window designs inspired by snowy days\, frosty patterns\, and their cozy winter imagination. Join us for an afternoon of color\, creativity\, and winter magic. \nDaily from 1:30-2:30pm; Saturdays 11:30am
URL:https://socalkids.org/event/winter-window-art/2025-12-16/
LOCATION:Southern California Children’s Museum\, 459 E. Colorado Blvd.\, Pasadena\, CA\, 91101\, United States
CATEGORIES:Daily Art Program
ATTACH;FMTTYPE=image/jpeg:https://socalkids.org/media/2-2.jpg
END:VEVENT
BEGIN:VEVENT
DTSTART;TZID=America/Los_Angeles:20251217T133000
DTEND;TZID=America/Los_Angeles:20251217T143000
DTSTAMP:20260422T092554
CREATED:20251203T232334Z
LAST-MODIFIED:20251203T233339Z
UID:10013251-1765978200-1765981800@socalkids.org
SUMMARY:Winter Window Art
DESCRIPTION:Help brighten our space (and yours!) with magical Winter Window Art! Young artists will layer colors\, shapes\, and textures to create wintery window designs inspired by snowy days\, frosty patterns\, and their cozy winter imagination. Join us for an afternoon of color\, creativity\, and winter magic. \nDaily from 1:30-2:30pm; Saturdays 11:30am
URL:https://socalkids.org/event/winter-window-art/2025-12-17/
LOCATION:Southern California Children’s Museum\, 459 E. Colorado Blvd.\, Pasadena\, CA\, 91101\, United States
CATEGORIES:Daily Art Program
ATTACH;FMTTYPE=image/jpeg:https://socalkids.org/media/2-2.jpg
END:VEVENT
BEGIN:VEVENT
DTSTART;TZID=America/Los_Angeles:20251218T133000
DTEND;TZID=America/Los_Angeles:20251218T143000
DTSTAMP:20260422T092554
CREATED:20251203T232334Z
LAST-MODIFIED:20251203T233339Z
UID:10013252-1766064600-1766068200@socalkids.org
SUMMARY:Winter Window Art
DESCRIPTION:Help brighten our space (and yours!) with magical Winter Window Art! Young artists will layer colors\, shapes\, and textures to create wintery window designs inspired by snowy days\, frosty patterns\, and their cozy winter imagination. Join us for an afternoon of color\, creativity\, and winter magic. \nDaily from 1:30-2:30pm; Saturdays 11:30am
URL:https://socalkids.org/event/winter-window-art/2025-12-18/
LOCATION:Southern California Children’s Museum\, 459 E. Colorado Blvd.\, Pasadena\, CA\, 91101\, United States
CATEGORIES:Daily Art Program
ATTACH;FMTTYPE=image/jpeg:https://socalkids.org/media/2-2.jpg
END:VEVENT
BEGIN:VEVENT
DTSTART;TZID=America/Los_Angeles:20251219T133000
DTEND;TZID=America/Los_Angeles:20251219T143000
DTSTAMP:20260422T092554
CREATED:20251203T232334Z
LAST-MODIFIED:20251203T233339Z
UID:10013253-1766151000-1766154600@socalkids.org
SUMMARY:Winter Window Art
DESCRIPTION:Help brighten our space (and yours!) with magical Winter Window Art! Young artists will layer colors\, shapes\, and textures to create wintery window designs inspired by snowy days\, frosty patterns\, and their cozy winter imagination. Join us for an afternoon of color\, creativity\, and winter magic. \nDaily from 1:30-2:30pm; Saturdays 11:30am
URL:https://socalkids.org/event/winter-window-art/2025-12-19/
LOCATION:Southern California Children’s Museum\, 459 E. Colorado Blvd.\, Pasadena\, CA\, 91101\, United States
CATEGORIES:Daily Art Program
ATTACH;FMTTYPE=image/jpeg:https://socalkids.org/media/2-2.jpg
END:VEVENT
BEGIN:VEVENT
DTSTART;TZID=America/Los_Angeles:20251220T103000
DTEND;TZID=America/Los_Angeles:20251220T113000
DTSTAMP:20260422T092554
CREATED:20251203T233048Z
LAST-MODIFIED:20251203T233048Z
UID:10013676-1766226600-1766230200@socalkids.org
SUMMARY:Winter Window Art
DESCRIPTION:Help brighten our space (and yours!) with magical Winter Window Art! Young artists will layer colors\, shapes\, and textures to create wintery window designs inspired by snowy days\, frosty patterns\, and their cozy winter imagination. Join us for an afternoon of color\, creativity\, and winter magic. \nDaily from 1:30-2:30pm; Saturdays 11:30am
URL:https://socalkids.org/event/winter-window-art-2/2025-12-20/
LOCATION:Southern California Children’s Museum\, 459 E. Colorado Blvd.\, Pasadena\, CA\, 91101\, United States
CATEGORIES:Daily Art Program
ATTACH;FMTTYPE=image/jpeg:https://socalkids.org/media/2-2.jpg
END:VEVENT
BEGIN:VEVENT
DTSTART;TZID=America/Los_Angeles:20251220T133000
DTEND;TZID=America/Los_Angeles:20251220T143000
DTSTAMP:20260422T092554
CREATED:20251203T232334Z
LAST-MODIFIED:20251203T233339Z
UID:10013254-1766237400-1766241000@socalkids.org
SUMMARY:Winter Window Art
DESCRIPTION:Help brighten our space (and yours!) with magical Winter Window Art! Young artists will layer colors\, shapes\, and textures to create wintery window designs inspired by snowy days\, frosty patterns\, and their cozy winter imagination. Join us for an afternoon of color\, creativity\, and winter magic. \nDaily from 1:30-2:30pm; Saturdays 11:30am
URL:https://socalkids.org/event/winter-window-art/2025-12-20/
LOCATION:Southern California Children’s Museum\, 459 E. Colorado Blvd.\, Pasadena\, CA\, 91101\, United States
CATEGORIES:Daily Art Program
ATTACH;FMTTYPE=image/jpeg:https://socalkids.org/media/2-2.jpg
END:VEVENT
BEGIN:VEVENT
DTSTART;TZID=America/Los_Angeles:20251221T133000
DTEND;TZID=America/Los_Angeles:20251221T143000
DTSTAMP:20260422T092554
CREATED:20251203T232334Z
LAST-MODIFIED:20251203T233339Z
UID:10013255-1766323800-1766327400@socalkids.org
SUMMARY:Winter Window Art
DESCRIPTION:Help brighten our space (and yours!) with magical Winter Window Art! Young artists will layer colors\, shapes\, and textures to create wintery window designs inspired by snowy days\, frosty patterns\, and their cozy winter imagination. Join us for an afternoon of color\, creativity\, and winter magic. \nDaily from 1:30-2:30pm; Saturdays 11:30am
URL:https://socalkids.org/event/winter-window-art/2025-12-21/
LOCATION:Southern California Children’s Museum\, 459 E. Colorado Blvd.\, Pasadena\, CA\, 91101\, United States
CATEGORIES:Daily Art Program
ATTACH;FMTTYPE=image/jpeg:https://socalkids.org/media/2-2.jpg
END:VEVENT
BEGIN:VEVENT
DTSTART;TZID=America/Los_Angeles:20251222T133000
DTEND;TZID=America/Los_Angeles:20251222T143000
DTSTAMP:20260422T092554
CREATED:20251203T232334Z
LAST-MODIFIED:20251203T233339Z
UID:10013256-1766410200-1766413800@socalkids.org
SUMMARY:Winter Window Art
DESCRIPTION:Help brighten our space (and yours!) with magical Winter Window Art! Young artists will layer colors\, shapes\, and textures to create wintery window designs inspired by snowy days\, frosty patterns\, and their cozy winter imagination. Join us for an afternoon of color\, creativity\, and winter magic. \nDaily from 1:30-2:30pm; Saturdays 11:30am
URL:https://socalkids.org/event/winter-window-art/2025-12-22/
LOCATION:Southern California Children’s Museum\, 459 E. Colorado Blvd.\, Pasadena\, CA\, 91101\, United States
CATEGORIES:Daily Art Program
ATTACH;FMTTYPE=image/jpeg:https://socalkids.org/media/2-2.jpg
END:VEVENT
BEGIN:VEVENT
DTSTART;TZID=America/Los_Angeles:20251223T133000
DTEND;TZID=America/Los_Angeles:20251223T143000
DTSTAMP:20260422T092554
CREATED:20251203T232334Z
LAST-MODIFIED:20251203T233339Z
UID:10013257-1766496600-1766500200@socalkids.org
SUMMARY:Winter Window Art
DESCRIPTION:Help brighten our space (and yours!) with magical Winter Window Art! Young artists will layer colors\, shapes\, and textures to create wintery window designs inspired by snowy days\, frosty patterns\, and their cozy winter imagination. Join us for an afternoon of color\, creativity\, and winter magic. \nDaily from 1:30-2:30pm; Saturdays 11:30am
URL:https://socalkids.org/event/winter-window-art/2025-12-23/
LOCATION:Southern California Children’s Museum\, 459 E. Colorado Blvd.\, Pasadena\, CA\, 91101\, United States
CATEGORIES:Daily Art Program
ATTACH;FMTTYPE=image/jpeg:https://socalkids.org/media/2-2.jpg
END:VEVENT
BEGIN:VEVENT
DTSTART;TZID=America/Los_Angeles:20251226T133000
DTEND;TZID=America/Los_Angeles:20251226T143000
DTSTAMP:20260422T092554
CREATED:20251203T232334Z
LAST-MODIFIED:20251203T233339Z
UID:10013258-1766755800-1766759400@socalkids.org
SUMMARY:Winter Window Art
DESCRIPTION:Help brighten our space (and yours!) with magical Winter Window Art! Young artists will layer colors\, shapes\, and textures to create wintery window designs inspired by snowy days\, frosty patterns\, and their cozy winter imagination. Join us for an afternoon of color\, creativity\, and winter magic. \nDaily from 1:30-2:30pm; Saturdays 11:30am
URL:https://socalkids.org/event/winter-window-art/2025-12-26/
LOCATION:Southern California Children’s Museum\, 459 E. Colorado Blvd.\, Pasadena\, CA\, 91101\, United States
CATEGORIES:Daily Art Program
ATTACH;FMTTYPE=image/jpeg:https://socalkids.org/media/2-2.jpg
END:VEVENT
BEGIN:VEVENT
DTSTART;TZID=America/Los_Angeles:20251227T103000
DTEND;TZID=America/Los_Angeles:20251227T113000
DTSTAMP:20260422T092554
CREATED:20251203T233048Z
LAST-MODIFIED:20251203T233048Z
UID:10013681-1766831400-1766835000@socalkids.org
SUMMARY:Winter Window Art
DESCRIPTION:Help brighten our space (and yours!) with magical Winter Window Art! Young artists will layer colors\, shapes\, and textures to create wintery window designs inspired by snowy days\, frosty patterns\, and their cozy winter imagination. Join us for an afternoon of color\, creativity\, and winter magic. \nDaily from 1:30-2:30pm; Saturdays 11:30am
URL:https://socalkids.org/event/winter-window-art-2/2025-12-27/
LOCATION:Southern California Children’s Museum\, 459 E. Colorado Blvd.\, Pasadena\, CA\, 91101\, United States
CATEGORIES:Daily Art Program
ATTACH;FMTTYPE=image/jpeg:https://socalkids.org/media/2-2.jpg
END:VEVENT
BEGIN:VEVENT
DTSTART;TZID=America/Los_Angeles:20251227T133000
DTEND;TZID=America/Los_Angeles:20251227T143000
DTSTAMP:20260422T092554
CREATED:20251203T232334Z
LAST-MODIFIED:20251203T233339Z
UID:10013259-1766842200-1766845800@socalkids.org
SUMMARY:Winter Window Art
DESCRIPTION:Help brighten our space (and yours!) with magical Winter Window Art! Young artists will layer colors\, shapes\, and textures to create wintery window designs inspired by snowy days\, frosty patterns\, and their cozy winter imagination. Join us for an afternoon of color\, creativity\, and winter magic. \nDaily from 1:30-2:30pm; Saturdays 11:30am
URL:https://socalkids.org/event/winter-window-art/2025-12-27/
LOCATION:Southern California Children’s Museum\, 459 E. Colorado Blvd.\, Pasadena\, CA\, 91101\, United States
CATEGORIES:Daily Art Program
ATTACH;FMTTYPE=image/jpeg:https://socalkids.org/media/2-2.jpg
END:VEVENT
BEGIN:VEVENT
DTSTART;TZID=America/Los_Angeles:20251228T133000
DTEND;TZID=America/Los_Angeles:20251228T143000
DTSTAMP:20260422T092554
CREATED:20251203T232334Z
LAST-MODIFIED:20251203T233339Z
UID:10013260-1766928600-1766932200@socalkids.org
SUMMARY:Winter Window Art
DESCRIPTION:Help brighten our space (and yours!) with magical Winter Window Art! Young artists will layer colors\, shapes\, and textures to create wintery window designs inspired by snowy days\, frosty patterns\, and their cozy winter imagination. Join us for an afternoon of color\, creativity\, and winter magic. \nDaily from 1:30-2:30pm; Saturdays 11:30am
URL:https://socalkids.org/event/winter-window-art/2025-12-28/
LOCATION:Southern California Children’s Museum\, 459 E. Colorado Blvd.\, Pasadena\, CA\, 91101\, United States
CATEGORIES:Daily Art Program
ATTACH;FMTTYPE=image/jpeg:https://socalkids.org/media/2-2.jpg
END:VEVENT
BEGIN:VEVENT
DTSTART;TZID=America/Los_Angeles:20251229T133000
DTEND;TZID=America/Los_Angeles:20251229T143000
DTSTAMP:20260422T092554
CREATED:20251203T232334Z
LAST-MODIFIED:20251203T233339Z
UID:10013261-1767015000-1767018600@socalkids.org
SUMMARY:Winter Window Art
DESCRIPTION:Help brighten our space (and yours!) with magical Winter Window Art! Young artists will layer colors\, shapes\, and textures to create wintery window designs inspired by snowy days\, frosty patterns\, and their cozy winter imagination. Join us for an afternoon of color\, creativity\, and winter magic. \nDaily from 1:30-2:30pm; Saturdays 11:30am
URL:https://socalkids.org/event/winter-window-art/2025-12-29/
LOCATION:Southern California Children’s Museum\, 459 E. Colorado Blvd.\, Pasadena\, CA\, 91101\, United States
CATEGORIES:Daily Art Program
ATTACH;FMTTYPE=image/jpeg:https://socalkids.org/media/2-2.jpg
END:VEVENT
BEGIN:VEVENT
DTSTART;TZID=America/Los_Angeles:20251230T133000
DTEND;TZID=America/Los_Angeles:20251230T143000
DTSTAMP:20260422T092554
CREATED:20251203T232334Z
LAST-MODIFIED:20251203T233339Z
UID:10013262-1767101400-1767105000@socalkids.org
SUMMARY:Winter Window Art
DESCRIPTION:Help brighten our space (and yours!) with magical Winter Window Art! Young artists will layer colors\, shapes\, and textures to create wintery window designs inspired by snowy days\, frosty patterns\, and their cozy winter imagination. Join us for an afternoon of color\, creativity\, and winter magic. \nDaily from 1:30-2:30pm; Saturdays 11:30am
URL:https://socalkids.org/event/winter-window-art/2025-12-30/
LOCATION:Southern California Children’s Museum\, 459 E. Colorado Blvd.\, Pasadena\, CA\, 91101\, United States
CATEGORIES:Daily Art Program
ATTACH;FMTTYPE=image/jpeg:https://socalkids.org/media/2-2.jpg
END:VEVENT
END:VCALENDAR