BEGIN:VCALENDAR
VERSION:2.0
PRODID:-//Southern California Children&#039;s Museum - ECPv6.15.20//NONSGML v1.0//EN
CALSCALE:GREGORIAN
METHOD:PUBLISH
X-ORIGINAL-URL:https://socalkids.org
X-WR-CALDESC:Events for Southern California Children&#039;s Museum
REFRESH-INTERVAL;VALUE=DURATION:PT1H
X-Robots-Tag:noindex
X-PUBLISHED-TTL:PT1H
BEGIN:VTIMEZONE
TZID:America/Los_Angeles
BEGIN:DAYLIGHT
TZOFFSETFROM:-0800
TZOFFSETTO:-0700
TZNAME:PDT
DTSTART:20240310T100000
END:DAYLIGHT
BEGIN:STANDARD
TZOFFSETFROM:-0700
TZOFFSETTO:-0800
TZNAME:PST
DTSTART:20241103T090000
END:STANDARD
BEGIN:DAYLIGHT
TZOFFSETFROM:-0800
TZOFFSETTO:-0700
TZNAME:PDT
DTSTART:20250309T100000
END:DAYLIGHT
BEGIN:STANDARD
TZOFFSETFROM:-0700
TZOFFSETTO:-0800
TZNAME:PST
DTSTART:20251102T090000
END:STANDARD
BEGIN:DAYLIGHT
TZOFFSETFROM:-0800
TZOFFSETTO:-0700
TZNAME:PDT
DTSTART:20260308T100000
END:DAYLIGHT
BEGIN:STANDARD
TZOFFSETFROM:-0700
TZOFFSETTO:-0800
TZNAME:PST
DTSTART:20261101T090000
END:STANDARD
END:VTIMEZONE
BEGIN:VEVENT
DTSTART;TZID=America/Los_Angeles:20251114T103000
DTEND;TZID=America/Los_Angeles:20251114T113000
DTSTAMP:20260420T123923
CREATED:20251115T001637Z
LAST-MODIFIED:20251115T002255Z
UID:10012649-1763116200-1763119800@socalkids.org
SUMMARY:Autumn Adventure Sensory Play
DESCRIPTION:This November\, our weekday morning sensory bins celebrate the sights and sounds of harvest time! In the mornings\, children can dig\, scoop\, and harvest in our fall-themed sensory bins filled with grains\, corn\, and farmyard friends. \nDrop in any time between 10:30am – 11:30am to play and explore! \nFree with Admission
URL:https://socalkids.org/event/autumn-adventure-sensory-play/2025-11-14/
LOCATION:Southern California Children’s Museum\, 459 E. Colorado Blvd.\, Pasadena\, CA\, 91101\, United States
CATEGORIES:Sensory Play
END:VEVENT
BEGIN:VEVENT
DTSTART;TZID=America/Los_Angeles:20251124T103000
DTEND;TZID=America/Los_Angeles:20251124T113000
DTSTAMP:20260420T123923
CREATED:20251115T001637Z
LAST-MODIFIED:20251115T002255Z
UID:10012655-1763980200-1763983800@socalkids.org
SUMMARY:Autumn Adventure Sensory Play
DESCRIPTION:This November\, our weekday morning sensory bins celebrate the sights and sounds of harvest time! In the mornings\, children can dig\, scoop\, and harvest in our fall-themed sensory bins filled with grains\, corn\, and farmyard friends. \nDrop in any time between 10:30am – 11:30am to play and explore! \nFree with Admission
URL:https://socalkids.org/event/autumn-adventure-sensory-play/2025-11-24/
LOCATION:Southern California Children’s Museum\, 459 E. Colorado Blvd.\, Pasadena\, CA\, 91101\, United States
CATEGORIES:Sensory Play
END:VEVENT
BEGIN:VEVENT
DTSTART;TZID=America/Los_Angeles:20251125T103000
DTEND;TZID=America/Los_Angeles:20251125T113000
DTSTAMP:20260420T123923
CREATED:20251115T001637Z
LAST-MODIFIED:20251115T002255Z
UID:10012656-1764066600-1764070200@socalkids.org
SUMMARY:Autumn Adventure Sensory Play
DESCRIPTION:This November\, our weekday morning sensory bins celebrate the sights and sounds of harvest time! In the mornings\, children can dig\, scoop\, and harvest in our fall-themed sensory bins filled with grains\, corn\, and farmyard friends. \nDrop in any time between 10:30am – 11:30am to play and explore! \nFree with Admission
URL:https://socalkids.org/event/autumn-adventure-sensory-play/2025-11-25/
LOCATION:Southern California Children’s Museum\, 459 E. Colorado Blvd.\, Pasadena\, CA\, 91101\, United States
CATEGORIES:Sensory Play
END:VEVENT
BEGIN:VEVENT
DTSTART;TZID=America/Los_Angeles:20251126T103000
DTEND;TZID=America/Los_Angeles:20251126T113000
DTSTAMP:20260420T123923
CREATED:20251115T001637Z
LAST-MODIFIED:20251115T002255Z
UID:10012657-1764153000-1764156600@socalkids.org
SUMMARY:Autumn Adventure Sensory Play
DESCRIPTION:This November\, our weekday morning sensory bins celebrate the sights and sounds of harvest time! In the mornings\, children can dig\, scoop\, and harvest in our fall-themed sensory bins filled with grains\, corn\, and farmyard friends. \nDrop in any time between 10:30am – 11:30am to play and explore! \nFree with Admission
URL:https://socalkids.org/event/autumn-adventure-sensory-play/2025-11-26/
LOCATION:Southern California Children’s Museum\, 459 E. Colorado Blvd.\, Pasadena\, CA\, 91101\, United States
CATEGORIES:Sensory Play
END:VEVENT
BEGIN:VEVENT
DTSTART;TZID=America/Los_Angeles:20251128T103000
DTEND;TZID=America/Los_Angeles:20251128T113000
DTSTAMP:20260420T123923
CREATED:20251115T001637Z
LAST-MODIFIED:20251115T002255Z
UID:10012659-1764325800-1764329400@socalkids.org
SUMMARY:Autumn Adventure Sensory Play
DESCRIPTION:This November\, our weekday morning sensory bins celebrate the sights and sounds of harvest time! In the mornings\, children can dig\, scoop\, and harvest in our fall-themed sensory bins filled with grains\, corn\, and farmyard friends. \nDrop in any time between 10:30am – 11:30am to play and explore! \nFree with Admission
URL:https://socalkids.org/event/autumn-adventure-sensory-play/2025-11-28/
LOCATION:Southern California Children’s Museum\, 459 E. Colorado Blvd.\, Pasadena\, CA\, 91101\, United States
CATEGORIES:Sensory Play
END:VEVENT
END:VCALENDAR