BEGIN:VCALENDAR
VERSION:2.0
PRODID:-//Southern California Children&#039;s Museum - ECPv6.15.20//NONSGML v1.0//EN
CALSCALE:GREGORIAN
METHOD:PUBLISH
X-ORIGINAL-URL:https://socalkids.org
X-WR-CALDESC:Events for Southern California Children&#039;s Museum
REFRESH-INTERVAL;VALUE=DURATION:PT1H
X-Robots-Tag:noindex
X-PUBLISHED-TTL:PT1H
BEGIN:VTIMEZONE
TZID:America/Los_Angeles
BEGIN:DAYLIGHT
TZOFFSETFROM:-0800
TZOFFSETTO:-0700
TZNAME:PDT
DTSTART:20250309T100000
END:DAYLIGHT
BEGIN:STANDARD
TZOFFSETFROM:-0700
TZOFFSETTO:-0800
TZNAME:PST
DTSTART:20251102T090000
END:STANDARD
BEGIN:DAYLIGHT
TZOFFSETFROM:-0800
TZOFFSETTO:-0700
TZNAME:PDT
DTSTART:20260308T100000
END:DAYLIGHT
BEGIN:STANDARD
TZOFFSETFROM:-0700
TZOFFSETTO:-0800
TZNAME:PST
DTSTART:20261101T090000
END:STANDARD
BEGIN:DAYLIGHT
TZOFFSETFROM:-0800
TZOFFSETTO:-0700
TZNAME:PDT
DTSTART:20270314T100000
END:DAYLIGHT
BEGIN:STANDARD
TZOFFSETFROM:-0700
TZOFFSETTO:-0800
TZNAME:PST
DTSTART:20271107T090000
END:STANDARD
END:VTIMEZONE
BEGIN:VEVENT
DTSTART;TZID=America/Los_Angeles:20260102T103000
DTEND;TZID=America/Los_Angeles:20260102T113000
DTSTAMP:20260420T093056
CREATED:20251203T232026Z
LAST-MODIFIED:20260109T002953Z
UID:10012976-1767349800-1767353400@socalkids.org
SUMMARY:Winter Sensations
DESCRIPTION:Our mornings are filled with hands-on sensory play all winter long! Each day\, children can explore a different sensory bin\, but what will it be today? Forest friends playing in the sand\, snowy rice landscapes\, cozy winter textures\, or a fun surprise waiting to be discovered? \nThere’s only one way to find out\, pop in and explore with us! \nFree with Admission
URL:https://socalkids.org/event/winter-sensations/2026-01-02/
LOCATION:Southern California Children’s Museum\, 459 E. Colorado Blvd.\, Pasadena\, CA\, 91101\, United States
CATEGORIES:Sensory Play
ATTACH;FMTTYPE=image/jpeg:https://socalkids.org/media/3.jpg
END:VEVENT
BEGIN:VEVENT
DTSTART;TZID=America/Los_Angeles:20260105T103000
DTEND;TZID=America/Los_Angeles:20260105T113000
DTSTAMP:20260420T093056
CREATED:20251203T232026Z
LAST-MODIFIED:20260109T002953Z
UID:10013715-1767609000-1767612600@socalkids.org
SUMMARY:Winter Sensations
DESCRIPTION:Our mornings are filled with hands-on sensory play all winter long! Each day\, children can explore a different sensory bin\, but what will it be today? Forest friends playing in the sand\, snowy rice landscapes\, cozy winter textures\, or a fun surprise waiting to be discovered? \nThere’s only one way to find out\, pop in and explore with us! \nFree with Admission
URL:https://socalkids.org/event/winter-sensations/2026-01-05/
LOCATION:Southern California Children’s Museum\, 459 E. Colorado Blvd.\, Pasadena\, CA\, 91101\, United States
CATEGORIES:Sensory Play
ATTACH;FMTTYPE=image/jpeg:https://socalkids.org/media/3.jpg
END:VEVENT
BEGIN:VEVENT
DTSTART;TZID=America/Los_Angeles:20260106T103000
DTEND;TZID=America/Los_Angeles:20260106T113000
DTSTAMP:20260420T093056
CREATED:20251203T232026Z
LAST-MODIFIED:20260109T002953Z
UID:10013716-1767695400-1767699000@socalkids.org
SUMMARY:Winter Sensations
DESCRIPTION:Our mornings are filled with hands-on sensory play all winter long! Each day\, children can explore a different sensory bin\, but what will it be today? Forest friends playing in the sand\, snowy rice landscapes\, cozy winter textures\, or a fun surprise waiting to be discovered? \nThere’s only one way to find out\, pop in and explore with us! \nFree with Admission
URL:https://socalkids.org/event/winter-sensations/2026-01-06/
LOCATION:Southern California Children’s Museum\, 459 E. Colorado Blvd.\, Pasadena\, CA\, 91101\, United States
CATEGORIES:Sensory Play
ATTACH;FMTTYPE=image/jpeg:https://socalkids.org/media/3.jpg
END:VEVENT
BEGIN:VEVENT
DTSTART;TZID=America/Los_Angeles:20260107T103000
DTEND;TZID=America/Los_Angeles:20260107T113000
DTSTAMP:20260420T093056
CREATED:20251203T232026Z
LAST-MODIFIED:20260109T002953Z
UID:10013717-1767781800-1767785400@socalkids.org
SUMMARY:Winter Sensations
DESCRIPTION:Our mornings are filled with hands-on sensory play all winter long! Each day\, children can explore a different sensory bin\, but what will it be today? Forest friends playing in the sand\, snowy rice landscapes\, cozy winter textures\, or a fun surprise waiting to be discovered? \nThere’s only one way to find out\, pop in and explore with us! \nFree with Admission
URL:https://socalkids.org/event/winter-sensations/2026-01-07/
LOCATION:Southern California Children’s Museum\, 459 E. Colorado Blvd.\, Pasadena\, CA\, 91101\, United States
CATEGORIES:Sensory Play
ATTACH;FMTTYPE=image/jpeg:https://socalkids.org/media/3.jpg
END:VEVENT
BEGIN:VEVENT
DTSTART;TZID=America/Los_Angeles:20260108T103000
DTEND;TZID=America/Los_Angeles:20260108T113000
DTSTAMP:20260420T093056
CREATED:20251203T232026Z
LAST-MODIFIED:20260109T002953Z
UID:10013718-1767868200-1767871800@socalkids.org
SUMMARY:Winter Sensations
DESCRIPTION:Our mornings are filled with hands-on sensory play all winter long! Each day\, children can explore a different sensory bin\, but what will it be today? Forest friends playing in the sand\, snowy rice landscapes\, cozy winter textures\, or a fun surprise waiting to be discovered? \nThere’s only one way to find out\, pop in and explore with us! \nFree with Admission
URL:https://socalkids.org/event/winter-sensations/2026-01-08/
LOCATION:Southern California Children’s Museum\, 459 E. Colorado Blvd.\, Pasadena\, CA\, 91101\, United States
CATEGORIES:Sensory Play
ATTACH;FMTTYPE=image/jpeg:https://socalkids.org/media/3.jpg
END:VEVENT
BEGIN:VEVENT
DTSTART;TZID=America/Los_Angeles:20260109T103000
DTEND;TZID=America/Los_Angeles:20260109T113000
DTSTAMP:20260420T093056
CREATED:20251203T232026Z
LAST-MODIFIED:20260109T002953Z
UID:10013719-1767954600-1767958200@socalkids.org
SUMMARY:Winter Sensations
DESCRIPTION:Our mornings are filled with hands-on sensory play all winter long! Each day\, children can explore a different sensory bin\, but what will it be today? Forest friends playing in the sand\, snowy rice landscapes\, cozy winter textures\, or a fun surprise waiting to be discovered? \nThere’s only one way to find out\, pop in and explore with us! \nFree with Admission
URL:https://socalkids.org/event/winter-sensations/2026-01-09/
LOCATION:Southern California Children’s Museum\, 459 E. Colorado Blvd.\, Pasadena\, CA\, 91101\, United States
CATEGORIES:Sensory Play
ATTACH;FMTTYPE=image/jpeg:https://socalkids.org/media/3.jpg
END:VEVENT
BEGIN:VEVENT
DTSTART;TZID=America/Los_Angeles:20260112T103000
DTEND;TZID=America/Los_Angeles:20260112T113000
DTSTAMP:20260420T093056
CREATED:20251203T232026Z
LAST-MODIFIED:20260109T002953Z
UID:10013720-1768213800-1768217400@socalkids.org
SUMMARY:Winter Sensations
DESCRIPTION:Our mornings are filled with hands-on sensory play all winter long! Each day\, children can explore a different sensory bin\, but what will it be today? Forest friends playing in the sand\, snowy rice landscapes\, cozy winter textures\, or a fun surprise waiting to be discovered? \nThere’s only one way to find out\, pop in and explore with us! \nFree with Admission
URL:https://socalkids.org/event/winter-sensations/2026-01-12/
LOCATION:Southern California Children’s Museum\, 459 E. Colorado Blvd.\, Pasadena\, CA\, 91101\, United States
CATEGORIES:Sensory Play
ATTACH;FMTTYPE=image/jpeg:https://socalkids.org/media/3.jpg
END:VEVENT
BEGIN:VEVENT
DTSTART;TZID=America/Los_Angeles:20260113T103000
DTEND;TZID=America/Los_Angeles:20260113T113000
DTSTAMP:20260420T093056
CREATED:20251203T232026Z
LAST-MODIFIED:20260109T002953Z
UID:10013721-1768300200-1768303800@socalkids.org
SUMMARY:Winter Sensations
DESCRIPTION:Our mornings are filled with hands-on sensory play all winter long! Each day\, children can explore a different sensory bin\, but what will it be today? Forest friends playing in the sand\, snowy rice landscapes\, cozy winter textures\, or a fun surprise waiting to be discovered? \nThere’s only one way to find out\, pop in and explore with us! \nFree with Admission
URL:https://socalkids.org/event/winter-sensations/2026-01-13/
LOCATION:Southern California Children’s Museum\, 459 E. Colorado Blvd.\, Pasadena\, CA\, 91101\, United States
CATEGORIES:Sensory Play
ATTACH;FMTTYPE=image/jpeg:https://socalkids.org/media/3.jpg
END:VEVENT
BEGIN:VEVENT
DTSTART;TZID=America/Los_Angeles:20260114T103000
DTEND;TZID=America/Los_Angeles:20260114T113000
DTSTAMP:20260420T093056
CREATED:20251203T232026Z
LAST-MODIFIED:20260109T002953Z
UID:10013722-1768386600-1768390200@socalkids.org
SUMMARY:Winter Sensations
DESCRIPTION:Our mornings are filled with hands-on sensory play all winter long! Each day\, children can explore a different sensory bin\, but what will it be today? Forest friends playing in the sand\, snowy rice landscapes\, cozy winter textures\, or a fun surprise waiting to be discovered? \nThere’s only one way to find out\, pop in and explore with us! \nFree with Admission
URL:https://socalkids.org/event/winter-sensations/2026-01-14/
LOCATION:Southern California Children’s Museum\, 459 E. Colorado Blvd.\, Pasadena\, CA\, 91101\, United States
CATEGORIES:Sensory Play
ATTACH;FMTTYPE=image/jpeg:https://socalkids.org/media/3.jpg
END:VEVENT
BEGIN:VEVENT
DTSTART;TZID=America/Los_Angeles:20260115T103000
DTEND;TZID=America/Los_Angeles:20260115T113000
DTSTAMP:20260420T093056
CREATED:20251203T232026Z
LAST-MODIFIED:20260109T002953Z
UID:10013723-1768473000-1768476600@socalkids.org
SUMMARY:Winter Sensations
DESCRIPTION:Our mornings are filled with hands-on sensory play all winter long! Each day\, children can explore a different sensory bin\, but what will it be today? Forest friends playing in the sand\, snowy rice landscapes\, cozy winter textures\, or a fun surprise waiting to be discovered? \nThere’s only one way to find out\, pop in and explore with us! \nFree with Admission
URL:https://socalkids.org/event/winter-sensations/2026-01-15/
LOCATION:Southern California Children’s Museum\, 459 E. Colorado Blvd.\, Pasadena\, CA\, 91101\, United States
CATEGORIES:Sensory Play
ATTACH;FMTTYPE=image/jpeg:https://socalkids.org/media/3.jpg
END:VEVENT
BEGIN:VEVENT
DTSTART;TZID=America/Los_Angeles:20260116T103000
DTEND;TZID=America/Los_Angeles:20260116T113000
DTSTAMP:20260420T093056
CREATED:20251203T232026Z
LAST-MODIFIED:20260109T002953Z
UID:10013724-1768559400-1768563000@socalkids.org
SUMMARY:Winter Sensations
DESCRIPTION:Our mornings are filled with hands-on sensory play all winter long! Each day\, children can explore a different sensory bin\, but what will it be today? Forest friends playing in the sand\, snowy rice landscapes\, cozy winter textures\, or a fun surprise waiting to be discovered? \nThere’s only one way to find out\, pop in and explore with us! \nFree with Admission
URL:https://socalkids.org/event/winter-sensations/2026-01-16/
LOCATION:Southern California Children’s Museum\, 459 E. Colorado Blvd.\, Pasadena\, CA\, 91101\, United States
CATEGORIES:Sensory Play
ATTACH;FMTTYPE=image/jpeg:https://socalkids.org/media/3.jpg
END:VEVENT
BEGIN:VEVENT
DTSTART;TZID=America/Los_Angeles:20260119T103000
DTEND;TZID=America/Los_Angeles:20260119T113000
DTSTAMP:20260420T093056
CREATED:20251203T232026Z
LAST-MODIFIED:20260109T002953Z
UID:10013725-1768818600-1768822200@socalkids.org
SUMMARY:Winter Sensations
DESCRIPTION:Our mornings are filled with hands-on sensory play all winter long! Each day\, children can explore a different sensory bin\, but what will it be today? Forest friends playing in the sand\, snowy rice landscapes\, cozy winter textures\, or a fun surprise waiting to be discovered? \nThere’s only one way to find out\, pop in and explore with us! \nFree with Admission
URL:https://socalkids.org/event/winter-sensations/2026-01-19/
LOCATION:Southern California Children’s Museum\, 459 E. Colorado Blvd.\, Pasadena\, CA\, 91101\, United States
CATEGORIES:Sensory Play
ATTACH;FMTTYPE=image/jpeg:https://socalkids.org/media/3.jpg
END:VEVENT
BEGIN:VEVENT
DTSTART;TZID=America/Los_Angeles:20260120T103000
DTEND;TZID=America/Los_Angeles:20260120T113000
DTSTAMP:20260420T093056
CREATED:20251203T232026Z
LAST-MODIFIED:20260109T002953Z
UID:10013726-1768905000-1768908600@socalkids.org
SUMMARY:Winter Sensations
DESCRIPTION:Our mornings are filled with hands-on sensory play all winter long! Each day\, children can explore a different sensory bin\, but what will it be today? Forest friends playing in the sand\, snowy rice landscapes\, cozy winter textures\, or a fun surprise waiting to be discovered? \nThere’s only one way to find out\, pop in and explore with us! \nFree with Admission
URL:https://socalkids.org/event/winter-sensations/2026-01-20/
LOCATION:Southern California Children’s Museum\, 459 E. Colorado Blvd.\, Pasadena\, CA\, 91101\, United States
CATEGORIES:Sensory Play
ATTACH;FMTTYPE=image/jpeg:https://socalkids.org/media/3.jpg
END:VEVENT
BEGIN:VEVENT
DTSTART;TZID=America/Los_Angeles:20260121T103000
DTEND;TZID=America/Los_Angeles:20260121T113000
DTSTAMP:20260420T093056
CREATED:20251203T232026Z
LAST-MODIFIED:20260109T002953Z
UID:10013727-1768991400-1768995000@socalkids.org
SUMMARY:Winter Sensations
DESCRIPTION:Our mornings are filled with hands-on sensory play all winter long! Each day\, children can explore a different sensory bin\, but what will it be today? Forest friends playing in the sand\, snowy rice landscapes\, cozy winter textures\, or a fun surprise waiting to be discovered? \nThere’s only one way to find out\, pop in and explore with us! \nFree with Admission
URL:https://socalkids.org/event/winter-sensations/2026-01-21/
LOCATION:Southern California Children’s Museum\, 459 E. Colorado Blvd.\, Pasadena\, CA\, 91101\, United States
CATEGORIES:Sensory Play
ATTACH;FMTTYPE=image/jpeg:https://socalkids.org/media/3.jpg
END:VEVENT
BEGIN:VEVENT
DTSTART;TZID=America/Los_Angeles:20260122T103000
DTEND;TZID=America/Los_Angeles:20260122T113000
DTSTAMP:20260420T093056
CREATED:20251203T232026Z
LAST-MODIFIED:20260109T002953Z
UID:10013728-1769077800-1769081400@socalkids.org
SUMMARY:Winter Sensations
DESCRIPTION:Our mornings are filled with hands-on sensory play all winter long! Each day\, children can explore a different sensory bin\, but what will it be today? Forest friends playing in the sand\, snowy rice landscapes\, cozy winter textures\, or a fun surprise waiting to be discovered? \nThere’s only one way to find out\, pop in and explore with us! \nFree with Admission
URL:https://socalkids.org/event/winter-sensations/2026-01-22/
LOCATION:Southern California Children’s Museum\, 459 E. Colorado Blvd.\, Pasadena\, CA\, 91101\, United States
CATEGORIES:Sensory Play
ATTACH;FMTTYPE=image/jpeg:https://socalkids.org/media/3.jpg
END:VEVENT
BEGIN:VEVENT
DTSTART;TZID=America/Los_Angeles:20260123T103000
DTEND;TZID=America/Los_Angeles:20260123T113000
DTSTAMP:20260420T093056
CREATED:20251203T232026Z
LAST-MODIFIED:20260109T002953Z
UID:10013729-1769164200-1769167800@socalkids.org
SUMMARY:Winter Sensations
DESCRIPTION:Our mornings are filled with hands-on sensory play all winter long! Each day\, children can explore a different sensory bin\, but what will it be today? Forest friends playing in the sand\, snowy rice landscapes\, cozy winter textures\, or a fun surprise waiting to be discovered? \nThere’s only one way to find out\, pop in and explore with us! \nFree with Admission
URL:https://socalkids.org/event/winter-sensations/2026-01-23/
LOCATION:Southern California Children’s Museum\, 459 E. Colorado Blvd.\, Pasadena\, CA\, 91101\, United States
CATEGORIES:Sensory Play
ATTACH;FMTTYPE=image/jpeg:https://socalkids.org/media/3.jpg
END:VEVENT
BEGIN:VEVENT
DTSTART;TZID=America/Los_Angeles:20260126T103000
DTEND;TZID=America/Los_Angeles:20260126T113000
DTSTAMP:20260420T093056
CREATED:20251203T232026Z
LAST-MODIFIED:20260109T002953Z
UID:10013730-1769423400-1769427000@socalkids.org
SUMMARY:Winter Sensations
DESCRIPTION:Our mornings are filled with hands-on sensory play all winter long! Each day\, children can explore a different sensory bin\, but what will it be today? Forest friends playing in the sand\, snowy rice landscapes\, cozy winter textures\, or a fun surprise waiting to be discovered? \nThere’s only one way to find out\, pop in and explore with us! \nFree with Admission
URL:https://socalkids.org/event/winter-sensations/2026-01-26/
LOCATION:Southern California Children’s Museum\, 459 E. Colorado Blvd.\, Pasadena\, CA\, 91101\, United States
CATEGORIES:Sensory Play
ATTACH;FMTTYPE=image/jpeg:https://socalkids.org/media/3.jpg
END:VEVENT
BEGIN:VEVENT
DTSTART;TZID=America/Los_Angeles:20260127T103000
DTEND;TZID=America/Los_Angeles:20260127T113000
DTSTAMP:20260420T093056
CREATED:20251203T232026Z
LAST-MODIFIED:20260109T002953Z
UID:10013731-1769509800-1769513400@socalkids.org
SUMMARY:Winter Sensations
DESCRIPTION:Our mornings are filled with hands-on sensory play all winter long! Each day\, children can explore a different sensory bin\, but what will it be today? Forest friends playing in the sand\, snowy rice landscapes\, cozy winter textures\, or a fun surprise waiting to be discovered? \nThere’s only one way to find out\, pop in and explore with us! \nFree with Admission
URL:https://socalkids.org/event/winter-sensations/2026-01-27/
LOCATION:Southern California Children’s Museum\, 459 E. Colorado Blvd.\, Pasadena\, CA\, 91101\, United States
CATEGORIES:Sensory Play
ATTACH;FMTTYPE=image/jpeg:https://socalkids.org/media/3.jpg
END:VEVENT
BEGIN:VEVENT
DTSTART;TZID=America/Los_Angeles:20260128T103000
DTEND;TZID=America/Los_Angeles:20260128T113000
DTSTAMP:20260420T093056
CREATED:20251203T232026Z
LAST-MODIFIED:20260109T002953Z
UID:10013732-1769596200-1769599800@socalkids.org
SUMMARY:Winter Sensations
DESCRIPTION:Our mornings are filled with hands-on sensory play all winter long! Each day\, children can explore a different sensory bin\, but what will it be today? Forest friends playing in the sand\, snowy rice landscapes\, cozy winter textures\, or a fun surprise waiting to be discovered? \nThere’s only one way to find out\, pop in and explore with us! \nFree with Admission
URL:https://socalkids.org/event/winter-sensations/2026-01-28/
LOCATION:Southern California Children’s Museum\, 459 E. Colorado Blvd.\, Pasadena\, CA\, 91101\, United States
CATEGORIES:Sensory Play
ATTACH;FMTTYPE=image/jpeg:https://socalkids.org/media/3.jpg
END:VEVENT
BEGIN:VEVENT
DTSTART;TZID=America/Los_Angeles:20260129T103000
DTEND;TZID=America/Los_Angeles:20260129T113000
DTSTAMP:20260420T093056
CREATED:20251203T232026Z
LAST-MODIFIED:20260109T002953Z
UID:10013733-1769682600-1769686200@socalkids.org
SUMMARY:Winter Sensations
DESCRIPTION:Our mornings are filled with hands-on sensory play all winter long! Each day\, children can explore a different sensory bin\, but what will it be today? Forest friends playing in the sand\, snowy rice landscapes\, cozy winter textures\, or a fun surprise waiting to be discovered? \nThere’s only one way to find out\, pop in and explore with us! \nFree with Admission
URL:https://socalkids.org/event/winter-sensations/2026-01-29/
LOCATION:Southern California Children’s Museum\, 459 E. Colorado Blvd.\, Pasadena\, CA\, 91101\, United States
CATEGORIES:Sensory Play
ATTACH;FMTTYPE=image/jpeg:https://socalkids.org/media/3.jpg
END:VEVENT
BEGIN:VEVENT
DTSTART;TZID=America/Los_Angeles:20260130T103000
DTEND;TZID=America/Los_Angeles:20260130T113000
DTSTAMP:20260420T093056
CREATED:20251203T232026Z
LAST-MODIFIED:20260109T002953Z
UID:10013734-1769769000-1769772600@socalkids.org
SUMMARY:Winter Sensations
DESCRIPTION:Our mornings are filled with hands-on sensory play all winter long! Each day\, children can explore a different sensory bin\, but what will it be today? Forest friends playing in the sand\, snowy rice landscapes\, cozy winter textures\, or a fun surprise waiting to be discovered? \nThere’s only one way to find out\, pop in and explore with us! \nFree with Admission
URL:https://socalkids.org/event/winter-sensations/2026-01-30/
LOCATION:Southern California Children’s Museum\, 459 E. Colorado Blvd.\, Pasadena\, CA\, 91101\, United States
CATEGORIES:Sensory Play
ATTACH;FMTTYPE=image/jpeg:https://socalkids.org/media/3.jpg
END:VEVENT
END:VCALENDAR