BEGIN:VCALENDAR
VERSION:2.0
PRODID:-//Southern California Children&#039;s Museum - ECPv6.15.20//NONSGML v1.0//EN
CALSCALE:GREGORIAN
METHOD:PUBLISH
X-ORIGINAL-URL:https://socalkids.org
X-WR-CALDESC:Events for Southern California Children&#039;s Museum
REFRESH-INTERVAL;VALUE=DURATION:PT1H
X-Robots-Tag:noindex
X-PUBLISHED-TTL:PT1H
BEGIN:VTIMEZONE
TZID:America/Los_Angeles
BEGIN:DAYLIGHT
TZOFFSETFROM:-0800
TZOFFSETTO:-0700
TZNAME:PDT
DTSTART:20240310T100000
END:DAYLIGHT
BEGIN:STANDARD
TZOFFSETFROM:-0700
TZOFFSETTO:-0800
TZNAME:PST
DTSTART:20241103T090000
END:STANDARD
BEGIN:DAYLIGHT
TZOFFSETFROM:-0800
TZOFFSETTO:-0700
TZNAME:PDT
DTSTART:20250309T100000
END:DAYLIGHT
BEGIN:STANDARD
TZOFFSETFROM:-0700
TZOFFSETTO:-0800
TZNAME:PST
DTSTART:20251102T090000
END:STANDARD
BEGIN:DAYLIGHT
TZOFFSETFROM:-0800
TZOFFSETTO:-0700
TZNAME:PDT
DTSTART:20260308T100000
END:DAYLIGHT
BEGIN:STANDARD
TZOFFSETFROM:-0700
TZOFFSETTO:-0800
TZNAME:PST
DTSTART:20261101T090000
END:STANDARD
END:VTIMEZONE
BEGIN:VEVENT
DTSTART;TZID=America/Los_Angeles:20251117T103000
DTEND;TZID=America/Los_Angeles:20251117T110000
DTSTAMP:20260420T210612
CREATED:20251031T211532Z
LAST-MODIFIED:20251031T211532Z
UID:10012627-1763375400-1763377200@socalkids.org
SUMMARY:Get to Know Your Neighbors
DESCRIPTION:Join us this week at 10:30am for a special morning program!  \nDiane Lang from Eaton Canyon Nature Center will be here to introduce us to some of our animal neighbors. We’ll be learning about where they live\, and how we might have more in common with them than we think! \nThis program is free with admission. \n  \nThis program is supported\, in part\, by the Los Angeles County Board of Supervisors through the Department of Arts and Culture.
URL:https://socalkids.org/event/get-to-know-your-neighbors/2025-11-17/
LOCATION:Southern California Children’s Museum\, 459 E. Colorado Blvd.\, Pasadena\, CA\, 91101\, United States
CATEGORIES:Special Guest
ATTACH;FMTTYPE=image/jpeg:https://socalkids.org/media/9.jpg
END:VEVENT
BEGIN:VEVENT
DTSTART;TZID=America/Los_Angeles:20251118T103000
DTEND;TZID=America/Los_Angeles:20251118T110000
DTSTAMP:20260420T210612
CREATED:20251031T211532Z
LAST-MODIFIED:20251031T211532Z
UID:10012628-1763461800-1763463600@socalkids.org
SUMMARY:Get to Know Your Neighbors
DESCRIPTION:Join us this week at 10:30am for a special morning program!  \nDiane Lang from Eaton Canyon Nature Center will be here to introduce us to some of our animal neighbors. We’ll be learning about where they live\, and how we might have more in common with them than we think! \nThis program is free with admission. \n  \nThis program is supported\, in part\, by the Los Angeles County Board of Supervisors through the Department of Arts and Culture.
URL:https://socalkids.org/event/get-to-know-your-neighbors/2025-11-18/
LOCATION:Southern California Children’s Museum\, 459 E. Colorado Blvd.\, Pasadena\, CA\, 91101\, United States
CATEGORIES:Special Guest
ATTACH;FMTTYPE=image/jpeg:https://socalkids.org/media/9.jpg
END:VEVENT
BEGIN:VEVENT
DTSTART;TZID=America/Los_Angeles:20251119T103000
DTEND;TZID=America/Los_Angeles:20251119T110000
DTSTAMP:20260420T210612
CREATED:20251031T211532Z
LAST-MODIFIED:20251031T211532Z
UID:10012629-1763548200-1763550000@socalkids.org
SUMMARY:Get to Know Your Neighbors
DESCRIPTION:Join us this week at 10:30am for a special morning program!  \nDiane Lang from Eaton Canyon Nature Center will be here to introduce us to some of our animal neighbors. We’ll be learning about where they live\, and how we might have more in common with them than we think! \nThis program is free with admission. \n  \nThis program is supported\, in part\, by the Los Angeles County Board of Supervisors through the Department of Arts and Culture.
URL:https://socalkids.org/event/get-to-know-your-neighbors/2025-11-19/
LOCATION:Southern California Children’s Museum\, 459 E. Colorado Blvd.\, Pasadena\, CA\, 91101\, United States
CATEGORIES:Special Guest
ATTACH;FMTTYPE=image/jpeg:https://socalkids.org/media/9.jpg
END:VEVENT
BEGIN:VEVENT
DTSTART;TZID=America/Los_Angeles:20251120T103000
DTEND;TZID=America/Los_Angeles:20251120T110000
DTSTAMP:20260420T210612
CREATED:20251031T211532Z
LAST-MODIFIED:20251031T211532Z
UID:10012630-1763634600-1763636400@socalkids.org
SUMMARY:Get to Know Your Neighbors
DESCRIPTION:Join us this week at 10:30am for a special morning program!  \nDiane Lang from Eaton Canyon Nature Center will be here to introduce us to some of our animal neighbors. We’ll be learning about where they live\, and how we might have more in common with them than we think! \nThis program is free with admission. \n  \nThis program is supported\, in part\, by the Los Angeles County Board of Supervisors through the Department of Arts and Culture.
URL:https://socalkids.org/event/get-to-know-your-neighbors/2025-11-20/
LOCATION:Southern California Children’s Museum\, 459 E. Colorado Blvd.\, Pasadena\, CA\, 91101\, United States
CATEGORIES:Special Guest
ATTACH;FMTTYPE=image/jpeg:https://socalkids.org/media/9.jpg
END:VEVENT
BEGIN:VEVENT
DTSTART;TZID=America/Los_Angeles:20251121T103000
DTEND;TZID=America/Los_Angeles:20251121T110000
DTSTAMP:20260420T210612
CREATED:20251031T211532Z
LAST-MODIFIED:20251031T211532Z
UID:10012631-1763721000-1763722800@socalkids.org
SUMMARY:Get to Know Your Neighbors
DESCRIPTION:Join us this week at 10:30am for a special morning program!  \nDiane Lang from Eaton Canyon Nature Center will be here to introduce us to some of our animal neighbors. We’ll be learning about where they live\, and how we might have more in common with them than we think! \nThis program is free with admission. \n  \nThis program is supported\, in part\, by the Los Angeles County Board of Supervisors through the Department of Arts and Culture.
URL:https://socalkids.org/event/get-to-know-your-neighbors/2025-11-21/
LOCATION:Southern California Children’s Museum\, 459 E. Colorado Blvd.\, Pasadena\, CA\, 91101\, United States
CATEGORIES:Special Guest
ATTACH;FMTTYPE=image/jpeg:https://socalkids.org/media/9.jpg
END:VEVENT
END:VCALENDAR