BEGIN:VCALENDAR
VERSION:2.0
PRODID:-//Southern California Children&#039;s Museum - ECPv6.15.20//NONSGML v1.0//EN
CALSCALE:GREGORIAN
METHOD:PUBLISH
X-WR-CALNAME:Southern California Children&#039;s Museum
X-ORIGINAL-URL:https://socalkids.org
X-WR-CALDESC:Events for Southern California Children&#039;s Museum
REFRESH-INTERVAL;VALUE=DURATION:PT1H
X-Robots-Tag:noindex
X-PUBLISHED-TTL:PT1H
BEGIN:VTIMEZONE
TZID:America/Los_Angeles
BEGIN:DAYLIGHT
TZOFFSETFROM:-0800
TZOFFSETTO:-0700
TZNAME:PDT
DTSTART:20250309T100000
END:DAYLIGHT
BEGIN:STANDARD
TZOFFSETFROM:-0700
TZOFFSETTO:-0800
TZNAME:PST
DTSTART:20251102T090000
END:STANDARD
BEGIN:DAYLIGHT
TZOFFSETFROM:-0800
TZOFFSETTO:-0700
TZNAME:PDT
DTSTART:20260308T100000
END:DAYLIGHT
BEGIN:STANDARD
TZOFFSETFROM:-0700
TZOFFSETTO:-0800
TZNAME:PST
DTSTART:20261101T090000
END:STANDARD
BEGIN:DAYLIGHT
TZOFFSETFROM:-0800
TZOFFSETTO:-0700
TZNAME:PDT
DTSTART:20270314T100000
END:DAYLIGHT
BEGIN:STANDARD
TZOFFSETFROM:-0700
TZOFFSETTO:-0800
TZNAME:PST
DTSTART:20271107T090000
END:STANDARD
END:VTIMEZONE
BEGIN:VEVENT
DTSTART;TZID=America/Los_Angeles:20260318T093000
DTEND;TZID=America/Los_Angeles:20260318T103000
DTSTAMP:20260420T075434
CREATED:20260311T195920Z
LAST-MODIFIED:20260316T220742Z
UID:10013783-1773826200-1773829800@socalkids.org
SUMMARY:Good To Go Potty Training Workshop
DESCRIPTION:This workshop for parents and caretakers explores the Potty Training Method in Gia Gambaro Blout and Laura Birek’s book Good To Go. They will bring in example floor potties\, children’s books\, a miss kit\, and more for a fun\, hands-on experience. \nKids are welcome! While little ones play\, parents and caregivers can learn helpful tools\, ask questions\, and connect with others navigating the same stage of early childhood. \nThis workshop is free with admission.
URL:https://socalkids.org/event/good-to-go-potty-training-workshop/
LOCATION:Southern California Children’s Museum\, 459 E. Colorado Blvd.\, Pasadena\, CA\, 91101\, United States
CATEGORIES:Guest Workshops,Special Event
ATTACH;FMTTYPE=image/png:https://socalkids.org/media/Newsletter-long-features-3.png
END:VEVENT
END:VCALENDAR