BEGIN:VCALENDAR
VERSION:2.0
PRODID:-//Southern California Children&#039;s Museum - ECPv6.15.20//NONSGML v1.0//EN
CALSCALE:GREGORIAN
METHOD:PUBLISH
X-ORIGINAL-URL:https://socalkids.org
X-WR-CALDESC:Events for Southern California Children&#039;s Museum
REFRESH-INTERVAL;VALUE=DURATION:PT1H
X-Robots-Tag:noindex
X-PUBLISHED-TTL:PT1H
BEGIN:VTIMEZONE
TZID:America/Los_Angeles
BEGIN:DAYLIGHT
TZOFFSETFROM:-0800
TZOFFSETTO:-0700
TZNAME:PDT
DTSTART:20250309T100000
END:DAYLIGHT
BEGIN:STANDARD
TZOFFSETFROM:-0700
TZOFFSETTO:-0800
TZNAME:PST
DTSTART:20251102T090000
END:STANDARD
BEGIN:DAYLIGHT
TZOFFSETFROM:-0800
TZOFFSETTO:-0700
TZNAME:PDT
DTSTART:20260308T100000
END:DAYLIGHT
BEGIN:STANDARD
TZOFFSETFROM:-0700
TZOFFSETTO:-0800
TZNAME:PST
DTSTART:20261101T090000
END:STANDARD
BEGIN:DAYLIGHT
TZOFFSETFROM:-0800
TZOFFSETTO:-0700
TZNAME:PDT
DTSTART:20270314T100000
END:DAYLIGHT
BEGIN:STANDARD
TZOFFSETFROM:-0700
TZOFFSETTO:-0800
TZNAME:PST
DTSTART:20271107T090000
END:STANDARD
END:VTIMEZONE
BEGIN:VEVENT
DTSTART;TZID=America/Los_Angeles:20260608T110000
DTEND;TZID=America/Los_Angeles:20260608T120000
DTSTAMP:20260422T105656
CREATED:20260421T172552Z
LAST-MODIFIED:20260421T173537Z
UID:10013861-1780916400-1780920000@socalkids.org
SUMMARY:Story Time with Kitty Caterpillar
DESCRIPTION:Meet the creators of Kitty Caterpillar\, a one-of-a-kind creature who’s part kitty-cat\, part caterpillar and 100% irresistible. Join authors Annabeth Bondor-Stone and Connor White for an interactive\, laugh-out-loud story time exploring their charming new picture book that celebrates curiosity\, friendship and the great outdoors.
URL:https://socalkids.org/event/story-time-with-kitty-caterpillar/
LOCATION:Southern California Children’s Museum\, 459 E. Colorado Blvd.\, Pasadena\, CA\, 91101\, United States
CATEGORIES:Special Event,Special Guest
ATTACH;FMTTYPE=image/jpeg:https://socalkids.org/media/Untitled-design-1.jpg
END:VEVENT
END:VCALENDAR